BEGIN:VCALENDAR
VERSION:2.0
PRODID:-//Cyno Monthey - ECPv6.15.20//NONSGML v1.0//EN
CALSCALE:GREGORIAN
METHOD:PUBLISH
X-WR-CALNAME:Cyno Monthey
X-ORIGINAL-URL:https://cynomonthey.ch
X-WR-CALDESC:Évènements pour Cyno Monthey
REFRESH-INTERVAL;VALUE=DURATION:PT1H
X-Robots-Tag:noindex
X-PUBLISHED-TTL:PT1H
BEGIN:VTIMEZONE
TZID:Europe/Zurich
BEGIN:DAYLIGHT
TZOFFSETFROM:+0100
TZOFFSETTO:+0200
TZNAME:CEST
DTSTART:20180325T010000
END:DAYLIGHT
BEGIN:STANDARD
TZOFFSETFROM:+0200
TZOFFSETTO:+0100
TZNAME:CET
DTSTART:20181028T010000
END:STANDARD
BEGIN:DAYLIGHT
TZOFFSETFROM:+0100
TZOFFSETTO:+0200
TZNAME:CEST
DTSTART:20190331T010000
END:DAYLIGHT
BEGIN:STANDARD
TZOFFSETFROM:+0200
TZOFFSETTO:+0100
TZNAME:CET
DTSTART:20191027T010000
END:STANDARD
BEGIN:DAYLIGHT
TZOFFSETFROM:+0100
TZOFFSETTO:+0200
TZNAME:CEST
DTSTART:20200329T010000
END:DAYLIGHT
BEGIN:STANDARD
TZOFFSETFROM:+0200
TZOFFSETTO:+0100
TZNAME:CET
DTSTART:20201025T010000
END:STANDARD
END:VTIMEZONE
BEGIN:VEVENT
DTSTART;TZID=Europe/Zurich:20190915T080000
DTEND;TZID=Europe/Zurich:20190915T140000
DTSTAMP:20260420T122159
CREATED:20180805T170630Z
LAST-MODIFIED:20190901T150617Z
UID:29074-1568534400-1568556000@cynomonthey.ch
SUMMARY:Concours SportPlaisir A\, B1\, B2
DESCRIPTION:Plus d’informations\nRenseignements et inscriptions:\n\nBitto Antoinette\nTéléphone: 079/774.41.65\nantciccio84[@]gmail.com\n\n\nFormulaires d’inscriptions:\n\nCatégorie A\nCatégorie B
URL:https://cynomonthey.ch/event/concours-sportplaisir-a-b1-b2/
LOCATION:Cabane Cyno-Monthey\, Boeuferrant\, Monthey
CATEGORIES:Concours
ATTACH;FMTTYPE=image/png:https://cynomonthey.ch/wp-content/uploads/2019/09/AFFICHE-DU-DIMANCHE-15-septembre-2019-SPORTPLAISIR-A-et-B1-Copie-1.png
ORGANIZER;CN="Antoinette Bitto":MAILTO:antciccio84@gmail.com
END:VEVENT
END:VCALENDAR